BEGIN:VCALENDAR
VERSION:2.0
CALSCALE:GREGORIAN
PRODID:adamgibbons/ics
METHOD:PUBLISH
X-PUBLISHED-TTL:PT1H
BEGIN:VEVENT
UID:87@asbek.org
SUMMARY:UNA COMUNITA IN VILLA INCLUSIVA IN TRASFERTA
DTSTAMP:20260421T105705Z
DTSTART:20260512T073000Z
DTEND:20260512T110000Z
DESCRIPTION:Educatori e partecipanti del progetto "Comunità in Villa" torna
	no in trasferta a\nGhiare di Berceto🎉🎉🎉\nVi invitiamo a partecipare alle a
	ttività che svilupperemo in Bottega tutti\ninsieme 🎊\nO semplicemente a fa
	rvi servire un buon caffè 😊
URL:https://asbek.org/event/una-comunita-in-villa-inclusiva-in-trasferta-1
LOCATION:Cooperativa Sociale di Comunità Ghiare Futura - via Manubiola 7
STATUS:CONFIRMED
CATEGORIES:
X-ALT-DESC;FMTTYPE=text/html:<p>Educatori e partecipanti del progetto "Comu
	nità in Villa" tornano in trasferta a Ghiare di Berceto🎉🎉🎉<br>Vi invitiamo
	 a partecipare alle attività che svilupperemo in Bottega tutti insieme 🎊<b
	r>O semplicemente a farvi servire un buon caffè 😊</p>
BEGIN:VALARM
ACTION:DISPLAY
DESCRIPTION:UNA COMUNITA IN VILLA INCLUSIVA IN TRASFERTA
TRIGGER:-PT1H
END:VALARM
END:VEVENT
END:VCALENDAR
