BEGIN:VCALENDAR
VERSION:2.0
CALSCALE:GREGORIAN
PRODID:adamgibbons/ics
METHOD:PUBLISH
X-PUBLISHED-TTL:PT1H
BEGIN:VEVENT
UID:80@asbek.org
SUMMARY:Presentazione XR Parma
DTSTAMP:20260421T110506Z
DTSTART:20260411T163000Z
DTEND:20260411T183000Z
DESCRIPTION:Presentazione XR Parma
URL:https://asbek.org/event/presentazione-xr-parma
LOCATION:Casa Nel Parco - Strada Naviglio Alto 4/1\, Parma
STATUS:CONFIRMED
CATEGORIES:Presentazione,XR
X-ALT-DESC;FMTTYPE=text/html:<p>Presentazione XR Parma</p>
BEGIN:VALARM
ACTION:DISPLAY
DESCRIPTION:Presentazione XR Parma
TRIGGER:-PT1H
END:VALARM
END:VEVENT
END:VCALENDAR
