BEGIN:VCALENDAR
VERSION:2.0
CALSCALE:GREGORIAN
PRODID:adamgibbons/ics
METHOD:PUBLISH
X-PUBLISHED-TTL:PT1H
BEGIN:VEVENT
UID:74@asbek.org
SUMMARY:NEWROZ PÎROZ BE!
DTSTAMP:20260421T110507Z
DTSTART:20260320T173000Z
DTEND:20260320T210000Z
DESCRIPTION:esteggia con noi il capodanno piú bello di Parma!\n\nTroverai 
	canti\, balli\, zuppa di lenticchie e tanta compagnia ☀️Salutiamo la\nprima
	vera nel modo che ci viene meglio!\n\nCi troviamo in Borgo Fiore (Piazzale
	 Inzani)\n\nSoundsystem gentilmente concesso da roar_soundsystem\n\nUna pa
	rte delle donazioni andranno alle 21 indagatə in occasione\ndell'occupazio
	ne della stazione per la Palestina.\n\nLa libertá è nella resistenza! Ji
	n Jihan Azadi!
URL:https://asbek.org/event/newroz-piroz-be
LOCATION:circolino - via giacomo leopardi 1 PR
STATUS:CONFIRMED
CATEGORIES:Benefit,cena,musica,newroz
X-ALT-DESC;FMTTYPE=text/html:<p>esteggia con noi il capodanno piú bello di
	 Parma!</p><p>Troverai canti, balli, zuppa di lenticchie e tanta compagnia
	 ☀️Salutiamo la primavera nel modo che ci viene meglio!</p><p>Ci troviamo i
	n Borgo Fiore (Piazzale Inzani)</p><p>Soundsystem gentilmente concesso da 
	roar_soundsystem</p><p>Una parte delle donazioni andranno alle 21 indagatə
	 in occasione dell'occupazione della stazione per la Palestina.</p><p>La l
	ibertá è nella resistenza! Jin Jihan Azadi! </p>
BEGIN:VALARM
ACTION:DISPLAY
DESCRIPTION:NEWROZ PÎROZ BE!
TRIGGER:-PT1H
END:VALARM
END:VEVENT
END:VCALENDAR
