BEGIN:VCALENDAR
VERSION:2.0
CALSCALE:GREGORIAN
PRODID:adamgibbons/ics
METHOD:PUBLISH
X-PUBLISHED-TTL:PT1H
BEGIN:VEVENT
UID:83@asbek.org
SUMMARY:MERCATINO IN PIAZZETTA
DTSTAMP:20260421T105313Z
DTSTART:20260419T080000Z
DTEND:20260419T160000Z
DESCRIPTION:Mercatino In piazzetta\;\n\n * bancarelle ARTIGIANATO e autopro
	duzioni\n\n * bancarelle usato e scambio\n\n * Servizio pranzo attivo in B
	ottega con piadine panini toast e pizze
URL:https://asbek.org/event/mercatino-in-piazzetta
LOCATION:Cooperativa Sociale di Comunità Ghiare Futura - via Manubiola 7
STATUS:CONFIRMED
CATEGORIES:
X-ALT-DESC;FMTTYPE=text/html:<p>Mercatino In piazzetta;</p><ul><li><p>banca
	relle ARTIGIANATO e autoproduzioni</p></li><li><p>bancarelle usato e scamb
	io</p></li><li><p>Servizio pranzo attivo in Bottega con piadine panini toa
	st e pizze</p></li></ul>
BEGIN:VALARM
ACTION:DISPLAY
DESCRIPTION:MERCATINO IN PIAZZETTA
TRIGGER:-PT1H
END:VALARM
END:VEVENT
END:VCALENDAR
