BEGIN:VCALENDAR
VERSION:2.0
CALSCALE:GREGORIAN
PRODID:adamgibbons/ics
METHOD:PUBLISH
X-PUBLISHED-TTL:PT1H
BEGIN:VEVENT
UID:94@asbek.org
SUMMARY:Laboratoria Creativa
DTSTAMP:20260421T110414Z
DTSTART:20260422T150000Z
DTEND:20260423T180000Z
DESCRIPTION:Con le belle giornate cosa c'è di meglio che sferruzzare tutta 
	insieme sul\nmarciapiede in quartiere\, come facevano le nostre nonne?\n\n
	Durante la Laboratoria Creativa porta il materiale con cui vuoi sperimenta
	re e\ncondividi pratiche con le altre persone! Se vuoi imparare a fare cro
	chet\, ferri\,\nvuoi un parere su un tuo scritto\, ti serve la colla per u
	na fanzine...\n\nMercoledi 23 dalle 17.00 Giovedì 24 dalle 16.00\n\nTrover
	ai snacchini e bevandine ad offerta
URL:https://asbek.org/event/laboratoria-creativa
LOCATION:ILCIRCOLINO - Via Giacomo Leopardi\, 1/A PR
STATUS:CONFIRMED
CATEGORIES:
X-ALT-DESC;FMTTYPE=text/html:<p>Con le belle giornate cosa c'è di meglio ch
	e sferruzzare tutta insieme sul marciapiede in quartiere, come facevano le
	 nostre nonne?</p><p>Durante la Laboratoria Creativa porta il materiale co
	n cui vuoi sperimentare e condividi pratiche con le altre persone! Se vuoi
	 imparare a fare crochet, ferri, vuoi un parere su un tuo scritto, ti serv
	e la colla per una fanzine...</p><p>Mercoledi 23 dalle 17.00 Giovedì 24 da
	lle 16.00</p><p>Troverai snacchini e bevandine ad offerta</p>
BEGIN:VALARM
ACTION:DISPLAY
DESCRIPTION:Laboratoria Creativa
TRIGGER:-PT1H
END:VALARM
END:VEVENT
END:VCALENDAR
