BEGIN:VCALENDAR
VERSION:2.0
CALSCALE:GREGORIAN
PRODID:adamgibbons/ics
METHOD:PUBLISH
X-PUBLISHED-TTL:PT1H
BEGIN:VEVENT
UID:84@asbek.org
SUMMARY:LA CIVILTA' DEL BUON MANGIARE - LA DIETA MEDITERRANEA
DTSTAMP:20260421T111102Z
DTSTART:20260419T143000Z
DTEND:20260419T163000Z
DESCRIPTION:Siamo davvero così unici al mondo?\n\nGiulia Gardelli ci aiuta 
	a rispondere a questa domanda
URL:https://asbek.org/event/la-civilta-del-buon-mangiare-la-dieta-mediterra
	nea
LOCATION:Cooperativa Sociale di Comunità Ghiare Futura - via Manubiola 7
STATUS:CONFIRMED
CATEGORIES:
X-ALT-DESC;FMTTYPE=text/html:<p>Siamo davvero così unici al mondo?</p><p>Gi
	ulia Gardelli ci aiuta a rispondere a questa domanda</p>
BEGIN:VALARM
ACTION:DISPLAY
DESCRIPTION:LA CIVILTA' DEL BUON MANGIARE - LA DIETA MEDITERRANEA
TRIGGER:-PT1H
END:VALARM
END:VEVENT
END:VCALENDAR
