BEGIN:VCALENDAR
VERSION:2.0
CALSCALE:GREGORIAN
PRODID:adamgibbons/ics
METHOD:PUBLISH
X-PUBLISHED-TTL:PT1H
BEGIN:VEVENT
UID:93@asbek.org
SUMMARY:Critical Mass
DTSTAMP:20260421T110341Z
DTSTART:20260424T170000Z
DTEND:20260425T100000Z
DESCRIPTION:Critical mass e a seguire: cena vegan\, proiezione e dj set in 
	casa cantoniera!
URL:https://asbek.org/event/critical-mass-1
GEO:44.801685;10.328004
LOCATION:Parma centro - piazza garibaldi
STATUS:CONFIRMED
CATEGORIES:
X-ALT-DESC;FMTTYPE=text/html:<p>Critical mass e a seguire: cena vegan, proi
	ezione e dj set in casa cantoniera! </p>
BEGIN:VALARM
ACTION:DISPLAY
DESCRIPTION:Critical Mass
TRIGGER:-PT1H
END:VALARM
END:VEVENT
END:VCALENDAR
