BEGIN:VCALENDAR
VERSION:2.0
CALSCALE:GREGORIAN
PRODID:adamgibbons/ics
METHOD:PUBLISH
X-PUBLISHED-TTL:PT1H
BEGIN:VEVENT
UID:89@asbek.org
SUMMARY:concerto Presence + Necroturnal
DTSTAMP:20260421T110523Z
DTSTART:20260417T190000Z
DESCRIPTION:Concerto hardcore metal e affini
URL:https://asbek.org/event/concerto-presence-necroturnal
LOCATION:Arci CDC - Viale Mentana 31/A
STATUS:CONFIRMED
CATEGORIES:
X-ALT-DESC;FMTTYPE=text/html:<p>Concerto hardcore metal e affini</p>
BEGIN:VALARM
ACTION:DISPLAY
DESCRIPTION:concerto Presence + Necroturnal
TRIGGER:-PT1H
END:VALARM
END:VEVENT
END:VCALENDAR
