BEGIN:VCALENDAR
VERSION:2.0
CALSCALE:GREGORIAN
PRODID:adamgibbons/ics
METHOD:PUBLISH
X-PUBLISHED-TTL:PT1H
BEGIN:VEVENT
UID:39@asbek.org
SUMMARY:Autodifesa Digitale
DTSTAMP:20260421T112044Z
DTSTART:20260209T183000Z
URL:https://asbek.org/event/autodifesa-digitale-9
LOCATION:ILCIRCOLINO - Via Giacomo Leopardi\, 1/A PR
STATUS:CONFIRMED
CATEGORIES:
BEGIN:VALARM
ACTION:DISPLAY
DESCRIPTION:Autodifesa Digitale
TRIGGER:-PT1H
END:VALARM
END:VEVENT
END:VCALENDAR
