BEGIN:VCALENDAR
VERSION:2.0
CALSCALE:GREGORIAN
PRODID:adamgibbons/ics
METHOD:PUBLISH
X-PUBLISHED-TTL:PT1H
BEGIN:VEVENT
UID:98@asbek.org
SUMMARY:Autodifesa Digitale
DTSTAMP:20260421T111552Z
DTSTART:20260427T173000Z
URL:https://asbek.org/event/autodifesa-digitale-25
LOCATION:ILCIRCOLINO - Via Giacomo Leopardi\, 1/A PR
STATUS:CONFIRMED
CATEGORIES:Autodifesa digitale,Free Palestine,IlCircolino
BEGIN:VALARM
ACTION:DISPLAY
DESCRIPTION:Autodifesa Digitale
TRIGGER:-PT1H
END:VALARM
END:VEVENT
END:VCALENDAR
