BEGIN:VCALENDAR
VERSION:2.0
CALSCALE:GREGORIAN
PRODID:adamgibbons/ics
METHOD:PUBLISH
X-PUBLISHED-TTL:PT1H
BEGIN:VEVENT
UID:8@asbek.org
SUMMARY:Autodifesa Digitale
DTSTAMP:20260421T110423Z
DTSTART:20260112T183000Z
URL:https://asbek.org/event/autodifesa-digitale-1
LOCATION:ILCIRCOLINO - Via Giacomo Leopardi\, 1/A PR
STATUS:CONFIRMED
CATEGORIES:Autodifesa digitale,Free Palestine,IlCircolino
BEGIN:VALARM
ACTION:DISPLAY
DESCRIPTION:Autodifesa Digitale
TRIGGER:-PT1H
END:VALARM
END:VEVENT
END:VCALENDAR
