BEGIN:VCALENDAR
VERSION:2.0
CALSCALE:GREGORIAN
PRODID:adamgibbons/ics
METHOD:PUBLISH
X-PUBLISHED-TTL:PT1H
BEGIN:VEVENT
UID:85@asbek.org
SUMMARY:81° ANNIVERSARIO DELLA LIBERAZIONE IN PIAZZETTA!
DTSTAMP:20260421T111853Z
DTSTART:20260425T133000Z
DTEND:20260425T180000Z
DESCRIPTION:📣 Siete pronti ad un altro 25 Aprile a Ghiare?\necco il program
	ma:\n\n15.30 Orazione dell'Amministrazione Comunale e dell'ANPI di Berceto
	 con\ndeposizione della corona al Monumento ai Caduti in Piazza Partigiani
	 del\nManubiola\nPoi tutti in piazzetta 😍\n15.45 lettura teatrale "L'ultim
	o Testimone" testi raccolti ed elaborati da Bruno\nMolinari ed interpretat
	i dai "Livello 852"\nDalle 16.30 Torta fritta e musica con:\n- IMPROVISATI
	ON BAND cantautori 🎶\n- TAFEL MUSIK rock and folk 🎸\n- LOBOTOM revival 80-
	90 🎇
URL:https://asbek.org/event/81degree-anniversario-della-liberazione-in-piaz
	zetta
LOCATION:Cooperativa Sociale di Comunità Ghiare Futura - via Manubiola 7
STATUS:CONFIRMED
CATEGORIES:
X-ALT-DESC;FMTTYPE=text/html:<p>📣 Siete pronti ad un altro 25 Aprile a Ghia
	re?<br>ecco il programma:<br><br>15.30 Orazione dell'Amministrazione Comun
	ale e dell'ANPI di Berceto con deposizione della corona al Monumento ai Ca
	duti in Piazza Partigiani del Manubiola<br>Poi tutti in piazzetta 😍<br>15.
	45 lettura teatrale "L'ultimo Testimone" testi raccolti ed elaborati da Br
	uno Molinari ed interpretati dai "Livello 852"<br>Dalle 16.30 Torta fritta
	 e musica con:<br>- IMPROVISATION BAND cantautori 🎶 <br>- TAFEL MUSIK rock
	 and folk 🎸 <br>- LOBOTOM revival 80-90 🎇</p>
BEGIN:VALARM
ACTION:DISPLAY
DESCRIPTION:81° ANNIVERSARIO DELLA LIBERAZIONE IN PIAZZETTA!
TRIGGER:-PT1H
END:VALARM
END:VEVENT
END:VCALENDAR
